BEGIN:VCALENDAR
VERSION:2.0
PRODID:-//Solange Sarah  IZEM - ECPv6.15.20//NONSGML v1.0//EN
CALSCALE:GREGORIAN
METHOD:PUBLISH
X-ORIGINAL-URL:https://www.sarahizem.com
X-WR-CALDESC:Évènements pour Solange Sarah  IZEM
REFRESH-INTERVAL;VALUE=DURATION:PT1H
X-Robots-Tag:noindex
X-PUBLISHED-TTL:PT1H
BEGIN:VTIMEZONE
TZID:Europe/Paris
BEGIN:DAYLIGHT
TZOFFSETFROM:+0100
TZOFFSETTO:+0200
TZNAME:CEST
DTSTART:20230326T010000
END:DAYLIGHT
BEGIN:STANDARD
TZOFFSETFROM:+0200
TZOFFSETTO:+0100
TZNAME:CET
DTSTART:20231029T010000
END:STANDARD
BEGIN:DAYLIGHT
TZOFFSETFROM:+0100
TZOFFSETTO:+0200
TZNAME:CEST
DTSTART:20240331T010000
END:DAYLIGHT
BEGIN:STANDARD
TZOFFSETFROM:+0200
TZOFFSETTO:+0100
TZNAME:CET
DTSTART:20241027T010000
END:STANDARD
BEGIN:DAYLIGHT
TZOFFSETFROM:+0100
TZOFFSETTO:+0200
TZNAME:CEST
DTSTART:20250330T010000
END:DAYLIGHT
BEGIN:STANDARD
TZOFFSETFROM:+0200
TZOFFSETTO:+0100
TZNAME:CET
DTSTART:20251026T010000
END:STANDARD
BEGIN:DAYLIGHT
TZOFFSETFROM:+0100
TZOFFSETTO:+0200
TZNAME:CEST
DTSTART:20260329T010000
END:DAYLIGHT
BEGIN:STANDARD
TZOFFSETFROM:+0200
TZOFFSETTO:+0100
TZNAME:CET
DTSTART:20261025T010000
END:STANDARD
END:VTIMEZONE
BEGIN:VEVENT
DTSTART;TZID=Europe/Paris:20240401T080000
DTEND;TZID=Europe/Paris:20250502T235900
DTSTAMP:20260424T125404
CREATED:20231028T202212Z
LAST-MODIFIED:20250328T173506Z
UID:2483-1711958400-1746230340@www.sarahizem.com
SUMMARY:Le chemin des arbres\, chamanisme perceptif et intuitif.
DESCRIPTION:LE CHEMIN DES ARBRES\nChamanisme perceptif et intuitif.\nUn chemin sur douze mois qui débute chaque mois avec un nouvel arbre.\nCe chemin des arbres est un chemin initiatique permettant la rencontre et  la co-évolution avec les arbres.\nC’est un chemin d’enseignement de la vision et de la guidance des arbres.\nLeur sagesse ancestrale nous guidera tout au long de l’année mois par mois avec un arbre différent.\nJe vous proposerai diverses clefs\, diverses méditations en vidéo et en webinaire pour cette co-évolution chacun\, chacune à son rythme.\nAvec une rencontre en direct en foret en Ardèche pour les plus motivés ! \n \nL’inscription pour un mois est à 25 euros:\nle chemin des arbres\nl’inscription pour 6 mois est à 110 euros:\nle chemin des arbres\nl’inscription à l’année est à 180 euros soit 15 euros/mois:\nLe chemin des Arbres\n \nVous pouvez vous inscrire tout au long de l’année. \nUn jeu de cartes des arbres et des astres est offert pour toute inscription de 6 mois ou 12 mois.\net 30 euros pour une inscription d’un mois. \nAu plaisir de nos rencontres avec les arbres …\npour en savoir plus si besoin\, contacte moi merci\nSarah \nJanvier \nLe houx  \n \nINFORMATIONS ET INSCRIPTIONS \nPour vous inscrire\, merci de bien vouloir remplir le formulaire ci-dessous. \nEn vous remerciant Chaleureusement  \n\n\n  \n\n\n\n Votre nom (obligatoire)\n \n \n Votre prenom (obligatoire)\n \n \n Votre compte Facebook\n \n \n Votre adresse de messagerie (obligatoire)\n \n \n Votre adresse postale pour la facturation (obligatoire)\n \n \n Votre message\n \n \n\n \n\n\n \n  \nPour toute demande d’information supplémentaire : Information et inscription \n 
URL:https://www.sarahizem.com/evenement/le-chemin-des-arbres/
LOCATION:à distance (E-learning)ou dans la foret\, place Ollier\, les Vans\, Ardeche du sud\, 07140
CATEGORIES:Atelier,Formation
ATTACH;FMTTYPE=image/jpeg:https://www.sarahizem.com/wp-content/uploads/2019/10/H3.jpg
ORGANIZER;CN="Solange Sarah IZEM":MAILTO:solange.sarah@outlook.com
END:VEVENT
BEGIN:VEVENT
DTSTART;TZID=Europe/Paris:20240413T190000
DTEND;TZID=Europe/Paris:20250413T213000
DTSTAMP:20260424T125404
CREATED:20231024T202204Z
LAST-MODIFIED:20240313T141430Z
UID:2421-1713034800-1744579800@www.sarahizem.com
SUMMARY:Le Chemin des Fleurs
DESCRIPTION:Chamanisme des fleurs \n \nInitiation à la communication avec les fleurs\nUn programme à distance\nun parcours sur 6 mois pour\nDécouvrir l’âme des plantes par les fleurs\net un séjour en Ardèche dans la nature au printemps 2021(non inclus dans ce tarif …). \n210 euros pour 6 mois de parcours \,120 euros pour 3 mois\, ou pour découvrir 50 euros pour un mois\nPossibilité de paiement échelonné \n  \n \n« Apprendre c’est trouver ce que tu sais déjà. \nAgir c’est montrer que tu le sais . \nEnseigner\,c’est montrer aux autres qu’ils le savent aussi bien que toi! »\nRichard Bach \nPour vous inscrire\, merci de bien vouloir remplir le formulaire ci-dessous. \n  \n\n\n  \n\n\n\n Votre nom (obligatoire)\n \n \n Votre prenom (obligatoire)\n \n \n Votre compte Facebook\n \n \n Votre adresse de messagerie (obligatoire)\n \n \n Votre adresse postale pour la facturation (obligatoire)\n \n \n Votre message\n \n \n\n \n\n\n \n  \nPour toute demande d’information supplémentaire : Information et inscription \nEn vous remerciant chaleureusement
URL:https://www.sarahizem.com/evenement/le-chemin-des-fleurs/
LOCATION:E-learning ou module dans la nature\, place Ollier\, les Vans\, Ardeche du sud\, 07140
CATEGORIES:Atelier,Formation
ATTACH;FMTTYPE=image/png:https://www.sarahizem.com/wp-content/uploads/2018/10/seances-13.png
ORGANIZER;CN="Solange Sarah IZEM":MAILTO:solange.sarah@outlook.com
END:VEVENT
END:VCALENDAR