BEGIN:VCALENDAR
VERSION:2.0
PRODID:-//Solange Sarah  IZEM - ECPv6.15.20//NONSGML v1.0//EN
CALSCALE:GREGORIAN
METHOD:PUBLISH
X-ORIGINAL-URL:https://www.sarahizem.com
X-WR-CALDESC:Évènements pour Solange Sarah  IZEM
REFRESH-INTERVAL;VALUE=DURATION:PT1H
X-Robots-Tag:noindex
X-PUBLISHED-TTL:PT1H
BEGIN:VTIMEZONE
TZID:Europe/Paris
BEGIN:DAYLIGHT
TZOFFSETFROM:+0100
TZOFFSETTO:+0200
TZNAME:CEST
DTSTART:20240331T010000
END:DAYLIGHT
BEGIN:STANDARD
TZOFFSETFROM:+0200
TZOFFSETTO:+0100
TZNAME:CET
DTSTART:20241027T010000
END:STANDARD
BEGIN:DAYLIGHT
TZOFFSETFROM:+0100
TZOFFSETTO:+0200
TZNAME:CEST
DTSTART:20250330T010000
END:DAYLIGHT
BEGIN:STANDARD
TZOFFSETFROM:+0200
TZOFFSETTO:+0100
TZNAME:CET
DTSTART:20251026T010000
END:STANDARD
BEGIN:DAYLIGHT
TZOFFSETFROM:+0100
TZOFFSETTO:+0200
TZNAME:CEST
DTSTART:20260329T010000
END:DAYLIGHT
BEGIN:STANDARD
TZOFFSETFROM:+0200
TZOFFSETTO:+0100
TZNAME:CET
DTSTART:20261025T010000
END:STANDARD
END:VTIMEZONE
BEGIN:VEVENT
DTSTART;TZID=Europe/Paris:20250401T080000
DTEND;TZID=Europe/Paris:20250430T233000
DTSTAMP:20260423T041946
CREATED:20250328T171756Z
LAST-MODIFIED:20250330T231710Z
UID:3828-1743494400-1746055800@www.sarahizem.com
SUMMARY: Avril – Retrouve ton fil
DESCRIPTION:Réenchanter son chemin – Un voyage en 3 temps (Avril\, mai\, juin)\n\n  \n Avril – Retrouve ton fil\n(Re)connecte-toi à ce qui te guide. \nIdentifie ton fil conducteur et laisse-le t’éclairer avec douceur et clarté.\nCe mois d’avril\, je t’invite à participer gratuitement à un challenge unique !\nChaque semaine\, je te propose une séance découverte d’une guidance différente : \n Semaine 1 : La guidance minérale\n Semaine 2 : La guidance végétale\n Semaine 3 : La guidance animale\n Semaine 4 : La guidance environnementale \nUn mois complet de guidance holistique pour t’accompagner dans ton cheminement. \nTu souhaites garder ton fil ou le retrouver ? Inscris-toi à ce challenge du mois d’avril et laisse-toi guider vers ton essence ! \n  \n  \n INSCRIPTION  gratuite !\n  \nPour t’ inscrire\, merci de bien vouloir m’envoyer un mail à solange.sarah@outlook.com  \nEn te remerciant Chaleureusement  \n  \n  \nOU Pour toute demande d’information supplémentaire : Information et inscription \n  \n  \n 
URL:https://www.sarahizem.com/evenement/avril-retrouve-ton-fil/
LOCATION:CHEZ VOUS
CATEGORIES:Nouveautés
ATTACH;FMTTYPE=image/png:https://www.sarahizem.com/wp-content/uploads/2025/03/cat-8811501_640.png
ORGANIZER;CN="Solange Sarah IZEM":MAILTO:solange.sarah@outlook.com
END:VEVENT
END:VCALENDAR