BEGIN:VCALENDAR
VERSION:2.0
PRODID:-//Solange Sarah  IZEM - ECPv6.15.20//NONSGML v1.0//EN
CALSCALE:GREGORIAN
METHOD:PUBLISH
X-WR-CALNAME:Solange Sarah  IZEM
X-ORIGINAL-URL:https://www.sarahizem.com
X-WR-CALDESC:Évènements pour Solange Sarah  IZEM
REFRESH-INTERVAL;VALUE=DURATION:PT1H
X-Robots-Tag:noindex
X-PUBLISHED-TTL:PT1H
BEGIN:VTIMEZONE
TZID:Europe/Paris
BEGIN:DAYLIGHT
TZOFFSETFROM:+0100
TZOFFSETTO:+0200
TZNAME:CEST
DTSTART:20230326T010000
END:DAYLIGHT
BEGIN:STANDARD
TZOFFSETFROM:+0200
TZOFFSETTO:+0100
TZNAME:CET
DTSTART:20231029T010000
END:STANDARD
BEGIN:DAYLIGHT
TZOFFSETFROM:+0100
TZOFFSETTO:+0200
TZNAME:CEST
DTSTART:20240331T010000
END:DAYLIGHT
BEGIN:STANDARD
TZOFFSETFROM:+0200
TZOFFSETTO:+0100
TZNAME:CET
DTSTART:20241027T010000
END:STANDARD
BEGIN:DAYLIGHT
TZOFFSETFROM:+0100
TZOFFSETTO:+0200
TZNAME:CEST
DTSTART:20250330T010000
END:DAYLIGHT
BEGIN:STANDARD
TZOFFSETFROM:+0200
TZOFFSETTO:+0100
TZNAME:CET
DTSTART:20251026T010000
END:STANDARD
BEGIN:DAYLIGHT
TZOFFSETFROM:+0100
TZOFFSETTO:+0200
TZNAME:CEST
DTSTART:20260329T010000
END:DAYLIGHT
BEGIN:STANDARD
TZOFFSETFROM:+0200
TZOFFSETTO:+0100
TZNAME:CET
DTSTART:20261025T010000
END:STANDARD
END:VTIMEZONE
BEGIN:VEVENT
DTSTART;TZID=Europe/Paris:20240329T200700
DTEND;TZID=Europe/Paris:20250329T200700
DTSTAMP:20260422T155950
CREATED:20231115T141549Z
LAST-MODIFIED:20240313T141327Z
UID:2173-1711742820-1743278820@www.sarahizem.com
SUMMARY:Initiation Reiki niveau 1
DESCRIPTION:Initiation Reiki niveau 1 \nAction sur le plan mental et émotionnel. Enseignement des symboles pour clarifier le mental et l’émotionnel et augmenter la VIBRATION du Reiki. \nEnseignement du Reiki à distance ainsi que l’utilisation sur des situations\, projets … de vie.\nInitiation au symbole du cœur et initiation des pieds \, faciliter la paix du cœur et la connexion à la terre. Gérer l’émotionnel pour garder l’ouverture du cœur \nPré requis AUCUN à part la motivation \n  \n \nStage :  journée\n110 € en individuel\n110 € à partir de 2 personnes \nPrix libre à partir de 55 euros pour cette session exceptionnelle ! \nPour réserver votre place\, vous pouvez remplir le formulaire ci-dessous (en indiquant le nom du stage dans le message) ou utiliser les informations de contact ci-dessous (tél\, mail…) : \n\n\n  \n\n\n\n Votre nom (obligatoire)\n \n \n Votre adresse de messagerie (obligatoire)\n \n \n Votre message
URL:https://www.sarahizem.com/evenement/initiation-reiki-niveau-2/
LOCATION:L’Esprit des Fleurs\, place Ollier\, les Vans\, Ardeche du sud\, 07140
CATEGORIES:Formation
ATTACH;FMTTYPE=image/jpeg:https://www.sarahizem.com/wp-content/uploads/2018/05/REIKI-SARAH.jpg
ORGANIZER;CN="Solange Sarah IZEM":MAILTO:solange.sarah@outlook.com
END:VEVENT
END:VCALENDAR